BEGIN:VCALENDAR
VERSION:2.0
PRODID:-//Stadtgeschichte München//DE
CALSCALE:GREGORIAN
BEGIN:VEVENT
UID:26191@stadtgeschichte-muenchen.de
SUMMARY:Hier lehrten Fritz Wassermann, Arthur Cohen und weitere Professoren
DESCRIPTION:&lt;p&gt;Im Rahmen eines Vortrags mit Präsentation originaler Dokumente stellen die Archive von LMU und TUM exemplarisch Hochschulangehörige und ihre Lebenswege vor. Fritz Wassermann, außerordentlicher Professor an der LMU und stellvertretender Direktor der Anatomischen Anstalt, verlor 1935 wegen seines jüdischen Familienhintergrunds beide Positionen. Arthur Cohen, der ab 1903 Volkswirtschaft an der THM lehrte, wurde 1933 wegen „nichtarischer“ Abstammung aus dem Staatsdienst entlassen. &amp;nbsp;Die Dokumentation zur NS-Zeit der THM wird einbezogen.&lt;/p&gt;
DTSTART:20250426T130000
DTEND:20250426T143000
LOCATION:Universität München Treffpunkt: Haupteingang Arcisstraße 21
ORGANIZER:DMAO Denk mal am Ort
END:VEVENT
END:VCALENDAR