BEGIN:VCALENDAR
VERSION:2.0
PRODID:-//Stadtgeschichte München//DE
CALSCALE:GREGORIAN
BEGIN:VEVENT
UID:26192@stadtgeschichte-muenchen.de
SUMMARY:Befreit - und dann? 
DESCRIPTION:&lt;p&gt;Die Geschwister Hans und Maria Leipelt, evangelisch erzogen, erlebten ab 1938 die brutale Verfolgung ihrer jüdischen Angehörigen mütterlicherseits. Mit Gleichgesinnten leisteten sie später in München und Hamburg Widerstand gegen die NS-Diktatur. Hans Leipelt wurde am 29. Januar 1945 in München hingerichtet. US-Truppen befreiten Maria Leipelt aus dem Gefängnis Bayreuth am 15. April 1945. Die Historikerin Angela Bottin erzählt Maria Leipelts Geschichte, Hildegard Kronawitter moderiert.&lt;/p&gt;
DTSTART:20250426T140000
DTEND:20250426T000015
LOCATION:Ludwig-Maximilians-Universität, Hörsaal: A 014 Geschwister-Scholl-Platz 1
ORGANIZER:DMAO Denk mal am Ort
END:VEVENT
END:VCALENDAR