BEGIN:VCALENDAR
VERSION:2.0
PRODID:-//Stadtgeschichte München//DE
CALSCALE:GREGORIAN
BEGIN:VEVENT
UID:26193@stadtgeschichte-muenchen.de
SUMMARY:Ein mutiger Gegner der Nazis
DESCRIPTION:&lt;p&gt;Konrad Heidens Eltern engagierten sich in der Arbeiterbewegung, seine Mutter war Jüdin. Früh verwaist zog Konrad Heiden 1919 nach München, wo er an der LMU studierte, und für die Demokratie kämpfte. Als Journalist berichtete er kritisch über den Nationalsozialismus, als Buchautor verfasste er unter anderem die erste fundierte Hitler-Biografie. 1933 floh Konrad Heiden aus Deutschland und entkam 1940 schließlich in die USA. Der Journalist Harald Wiederschein erinnert in dessen studentischer Wirkstätte an den einst berühmten Publizisten.&lt;/p&gt;
DTSTART:20250426T160000
DTEND:20250426T173000
LOCATION:Ludwig-Maximilians-Universität, Hörsaal: A 016 Geschwister Scholl Platz 1
ORGANIZER:DMAO Denk mal am Ort
END:VEVENT
END:VCALENDAR