BEGIN:VCALENDAR
VERSION:2.0
PRODID:-//Stadtgeschichte München//DE
CALSCALE:GREGORIAN
BEGIN:VEVENT
UID:26195@stadtgeschichte-muenchen.de
SUMMARY:Der Stummfilm „Nathan der Weise“ 
DESCRIPTION:&lt;p&gt;Ort der Filmvorführung ist der 1894 gegründete Verein für Fraueninteressen e. V., in dem der Rechtsanwalt Wilhelm Rosenthal zusammen mit seiner Frau Lisette Mitglied war. Als Mitgründer und Vorsitzender des Aufsichtsrates der Münchner Lichtspielkunst AG war er an der Entstehung des Films ebenso beteiligt wie sein Sohn Kurt Rosen, der als Produktionsmanager mitwirkte. Vater und Sohn wurden nach 1933 Opfer der NS-Verfolgung. Ihre Kurzbiografien werden vorab von der Nachfahrin Judy Rosenthal vorgestellt.&lt;/p&gt;
DTSTART:20250426T190000
DTEND:20250426T203000
LOCATION:Verein für Fraueninteressen Rückgebäude Altheimer Eck 13
ORGANIZER:DMAO Denk mal am Ort
END:VEVENT
END:VCALENDAR