BEGIN:VCALENDAR
VERSION:2.0
PRODID:-//Stadtgeschichte München//DE
CALSCALE:GREGORIAN
BEGIN:VEVENT
UID:26224@stadtgeschichte-muenchen.de
SUMMARY:Die Äbte von St. Bonifaz: Abt Benedikt Zenetti (1872-1904)
DESCRIPTION:
DTSTART:20250701T200000
DTEND:20250701T213000
LOCATION:Zentrum St. Bonifaz, Karlstr. 34
ORGANIZER:St. Bonifaz Abtei
END:VEVENT
END:VCALENDAR