BEGIN:VCALENDAR
VERSION:2.0
PRODID:-//Stadtgeschichte München//DE
CALSCALE:GREGORIAN
BEGIN:VEVENT
UID:26239@stadtgeschichte-muenchen.de
SUMMARY:Das doppelte Gesicht« und »Die letzte Schuld
DESCRIPTION:&lt;p&gt;In den beiden Krimis, die im ersten Nachkriegssommer 1945 sowie im darauffolgenden Frühling 1946 spielen, entfaltet sich ein spannendes Panorama der unmittelbaren Nachkriegszeit in München. Die US-Streitkräfte versuchen, von NS-Verbrechen möglichst unbelastete Polizisten bei der Aufklärung mysteriöser Mordfälle zu unterstützen. Eine junge jüdische Fotoreporterin will in ihrer früheren Heimatstadt ihre Wurzeln wiederfinden. Doch noch scheint unklar, wer welche Schuld auf sich geladen hat und wie es künftig mit Schuld und Sühne weitergehen soll.&lt;br&gt;&lt;br&gt;Die Historikerin Lilly Meier wird im Gespräch mit Heidi Rehn die verschiedenen Facetten jener Zeit beleuchten.&lt;/p&gt;
DTSTART:20251030T190000
DTEND:20251030T210000
LOCATION:Stadtbibliothek Moosach, Hanauer Str. 61A
ORGANIZER:Rehn Heidi
END:VEVENT
END:VCALENDAR