BEGIN:VCALENDAR
VERSION:2.0
PRODID:-//Stadtgeschichte München//DE
CALSCALE:GREGORIAN
BEGIN:VEVENT
UID:2625@stadtgeschichte-muenchen.de
SUMMARY:Das Bayerische Jahrtausend
DESCRIPTION:&lt;div&gt; &lt;div&gt;Ein neues Staatsverst&amp;auml;ndnis entwickelt sich: Der Kaiser gibt einen Teil seiner Macht an Bischof und Bistum ab. So erringt das F&amp;uuml;rstbistum W&amp;uuml;rzburg im 12. Jahrhundert seine Eigenst&amp;auml;ndigkeit, die es 650 Jahre lang bewahren kann.&lt;/div&gt; &lt;div&gt;&amp;nbsp;&lt;/div&gt; &lt;div&gt;Der Kaiser ist auf seine Bisch&amp;ouml;fe angewiesen: Die Regierungsgesch&amp;auml;fte werden komplexer und er ist viel unterwegs. Deshalb braucht er vor Ort Verb&amp;uuml;ndete, die das Reich in seinem Sinne regieren. Ein neues Staatsverst&amp;auml;ndnis entwickelt sich: Der Kaiser gibt einen Teil seiner Macht und Souver&amp;auml;nit&amp;auml;t an Bischof und Bistum ab.&lt;/div&gt; &lt;/div&gt;
DTSTART:20120402T220000
DTEND:20120402T224500
LOCATION:BR3
ORGANIZER:BR Bayerisches Fernsehen
END:VEVENT
END:VCALENDAR