BEGIN:VCALENDAR
VERSION:2.0
PRODID:-//Stadtgeschichte München//DE
CALSCALE:GREGORIAN
BEGIN:VEVENT
UID:26254@stadtgeschichte-muenchen.de
SUMMARY:Aktiv und gesund in Ramersdorf
DESCRIPTION:&lt;p&gt;Die dritte Auflage des vom Gesundheitsreferat München und den Bildungslokalen Ramersdorf und Neuperlach organisierten &quot;Gesundheitstags Ramersdorf-Perlach&quot; findet auf der Wiese an der Kirchseeoner Straße - Ecke Rosenheimer Straße in Ramersdorf statt. Die Münchner Volkshochschule beteiligt sich mit einem Infostand und zwei Schnupperangeboten. Wir laden Sie ein, uns zu besuchen und mitzumachen!&lt;/p&gt;
DTSTART:20250509T140000
DTEND:20250509T144500
LOCATION:Wiesen Kirchseeoner Straße, Ecke Rosenheimer Straße
ORGANIZER:MVHS
END:VEVENT
END:VCALENDAR