BEGIN:VCALENDAR
VERSION:2.0
PRODID:-//Stadtgeschichte München//DE
CALSCALE:GREGORIAN
BEGIN:VEVENT
UID:26256@stadtgeschichte-muenchen.de
SUMMARY:Essbare Wildkräuter in Giesing - ja gibt&#039;s denn das?
DESCRIPTION:&lt;p&gt;Ja, es gibt sie und bei dieser Stadtviertelführung werden Sie sie kennenlernen. Unsere heimischen Wildkräuter sind gesund und lecker. Sie strotzen vor Vitaminen, Mineralien und Vitalstoffen und so manche sind sogar wertvolle Heilkräuter. Es gilt sie zu erkennen, zu benennen sowie Standorte zu wissen, die möglichst unbelastet sind. Dazu gibt es leckere Rezepte und Empfehlungen, wie Sie die Heilkräfte der Pflanzen für sich nutzen können. Die Veranstaltung findet bei jedem Wetter statt. Skript mit Pflanzenporträts und Rezepten für € 2.50 vor Ort.&lt;/p&gt;
DTSTART:20250509T170000
DTEND:20250509T183000
LOCATION:Weißenseepark Ecke Untersberg-/Firstalmstr.
ORGANIZER:MVHS
END:VEVENT
END:VCALENDAR