BEGIN:VCALENDAR
VERSION:2.0
PRODID:-//Stadtgeschichte München//DE
CALSCALE:GREGORIAN
BEGIN:VEVENT
UID:26257@stadtgeschichte-muenchen.de
SUMMARY:Trudering im Wandel – wieder vor Ort!
DESCRIPTION:&lt;p&gt;Eine &quot;Transition-Town-Initiative&quot; im Münchner Osten Die Truderinger Initiative wurde im August 2015 nach dem Vorbild der weltweit aktiven &quot;Transition-Town-Bewegung&quot; – im Rahmen der Truderinger Zukunftsgespräche – gegründet. Seit Ende 2022 räumlich verwaist, haben sie im Sommer 2024 nach längerer Suche eine neue Bleibe gefunden. Unterschiedliche Talente wirken zusammen, um Ideen für den Klimaschutz und Nachhaltigkeit im eigenen Stadtviertel umzusetzen. Zentrale Motivation der Initiative ist die Förderung der Selbsthilfe und der Kooperation. Lernen Sie die Akteur*innen und ihre Projekte kennen: Solar-Nachbarschaftshilfe, den Unverpackt-Marttreff &quot;Tante Trude&quot; und &quot;Pfiat di Plastik&quot;, die beliebte „Trudelade“, eine neugegründete Werkzeugbibliothek und natürlich das Repair Café.&lt;/p&gt;
DTSTART:20250604T190000
DTEND:20250604T203000
LOCATION:Ehemaliges Truderinger Rathaus Truderinger Str. 288
ORGANIZER:MVHS
END:VEVENT
END:VCALENDAR