BEGIN:VCALENDAR
VERSION:2.0
PRODID:-//Stadtgeschichte München//DE
CALSCALE:GREGORIAN
BEGIN:VEVENT
UID:2626@stadtgeschichte-muenchen.de
SUMMARY:Das Bayerische Jahrtausend
DESCRIPTION:&lt;div&gt; &lt;div&gt; &lt;div&gt;Durch Fernhandel kommen nicht nur Luxusg&amp;uuml;ter wie Safran und Pfeffer nach Regensburg, sondern auch Reichtum und B&amp;uuml;rgerstolz. Herzog und Bischof haben nicht mehr das Sagen, die Regensburger regieren sich selbst in einer freien Stadt.&lt;/div&gt; &lt;div&gt;&amp;nbsp;&lt;/div&gt; &lt;div&gt;Regensburg ist eine der &amp;auml;ltesten St&amp;auml;dte Deutschlands und war &amp;uuml;ber Jahrhunderte hinweg k&amp;ouml;nigliche und herzogliche Residenzstadt im Herzen Bayerns. Im 13. Jahrhundert gibt es keine vergleichbare Stadt in S&amp;uuml;ddeutschland: Regensburg ist Bischofssitz, seine etwa 15.000 Einwohner sind wohlhabend, die imposante Steinerne Br&amp;uuml;cke &amp;uuml;ber der Donau gilt im Mittelalter als eines der Weltwunder.&lt;/div&gt; &lt;/div&gt; &lt;/div&gt;
DTSTART:20120403T220000
DTEND:20120403T224500
LOCATION:BR3
ORGANIZER:BR Bayerisches Fernsehen
END:VEVENT
END:VCALENDAR