BEGIN:VCALENDAR
VERSION:2.0
PRODID:-//Stadtgeschichte München//DE
CALSCALE:GREGORIAN
BEGIN:VEVENT
UID:26265@stadtgeschichte-muenchen.de
SUMMARY:Literarisches München zur Zeit von Thomas Mann
DESCRIPTION:&lt;p&gt;Mit 19 Jahren kam der in Lübeck gebürtige Thomas Mann 1894 nach München. Für fast vierzig Jahre wurde die Stadt für ihn ein wichtiger Schreib- und Lebensort. Hier gründete er eine Familie und kam als Schriftsteller zu Ruhm und Ehren. Zum Zeitpunkt der &quot;Machtergreifung&quot; der Nationalsozialisten 1933 befand sich Thomas Mann gerade auf Vortragsreise im Ausland. Angesichts der politischen Entwicklungen musste er sich dazu entschließen, nicht mehr nach Deutschland und München zurückzukehren.&lt;/p&gt;&lt;p&gt;Die Dauerausstellung „Literarisches München zur Zeit von Thomas Mann“ geht anhand der Leitfigur Thomas Mann der Frage nach, was das literarische München im Spannungsfeld zwischen Hitlers „Hauptstadt der Bewegung“ und Schwabinger Bohème ausmacht. Manns Münchner Jahre zwischen 1894 und 1933 bilden hierbei den zeitlichen Rahmen für die Ausstellung.&lt;/p&gt;&lt;p&gt;&amp;amp;nbsp;Die Monacensia im Hildebrandhaus ist ein lebendiger Ort der Literatur. Die traditionsreiche Einrichtung der Münchner Stadtbibliothek ist in der Villa des Bildhauers Adolf von Hildebrand (1847-1921) beheimatet. Als literarisches Gedächtnis der Stadt München pflegt sie den Dialog zwischen Vergangenheit und Gegenwart.&lt;/p&gt;&lt;p&gt;In Kooperation mit Münchner Stadtbibliothek/Monacensia im Hildebrandhaus&lt;/p&gt;
DTSTART:20250606T150000
DTEND:20250606T160000
LOCATION:Monacensia, Treffpunkt: Forum Atelier
ORGANIZER:MVHS
END:VEVENT
END:VCALENDAR