BEGIN:VCALENDAR
VERSION:2.0
PRODID:-//Stadtgeschichte München//DE
CALSCALE:GREGORIAN
BEGIN:VEVENT
UID:26266@stadtgeschichte-muenchen.de
SUMMARY:Klimaschützender Verkehr entlang des Südrings
DESCRIPTION:&lt;p&gt;Wir zeigen Potenziale für mehr klimaschützenden Verkehr entlang des Südrings. Regionalzughalte erlauben eine bessere Vernetzung im Münchner ÖPNV. Auch lassen sich Fuß- und Radweg-Trassen links und rechts des Südrings nutzerfreundlicher gestalten.&lt;/p&gt;
DTSTART:20250505T173000
DTEND:20250505T000000
LOCATION:Kolumbusplatz unter der Bahnbrücke (Ostseite)
ORGANIZER:VCD
END:VEVENT
END:VCALENDAR