BEGIN:VCALENDAR
VERSION:2.0
PRODID:-//Stadtgeschichte München//DE
CALSCALE:GREGORIAN
BEGIN:VEVENT
UID:2627@stadtgeschichte-muenchen.de
SUMMARY:Das Bayerische Jahrtausend
DESCRIPTION:&lt;div&gt; &lt;div&gt; &lt;div&gt; &lt;div&gt;Es ist die &amp;Auml;ra der bayerischen Landesteilungen: Der Wittelsbacher Albrecht I. regiert sein Herzogtum Straubing-Holland von Den Haag aus. Dazu l&amp;auml;sst er in Straubing Kanzleien und Kurierdienste einrichten. Ein neues Verwaltungssystem entsteht in Bayern.&lt;/div&gt; &lt;div&gt;&amp;nbsp;&lt;/div&gt; &lt;div&gt;Es ist eine Zeit des Umbruchs. Die Verwaltung w&amp;auml;chst. Alle Liegenschaften und Abgaben h&amp;auml;lt man in Akten fest, Schulden k&amp;ouml;nnen nachgepr&amp;uuml;ft und eingetrieben werden. Die Zunahme des Schriftverkehrs hat einen Grund: Da Albrecht I. seit 1353 auch Herzog der Grafschaft Holland ist und &amp;uuml;berwiegend in Den Haag residiert, richtet er einen Kurierdienst zwischen Straubing und Den Haag ein.&lt;/div&gt; &lt;/div&gt; &lt;/div&gt; &lt;/div&gt;
DTSTART:20120404T220000
DTEND:20120404T224500
LOCATION:BR3
ORGANIZER:BR Bayerisches Fernsehen
END:VEVENT
END:VCALENDAR