BEGIN:VCALENDAR
VERSION:2.0
PRODID:-//Stadtgeschichte München//DE
CALSCALE:GREGORIAN
BEGIN:VEVENT
UID:26276@stadtgeschichte-muenchen.de
SUMMARY:Quartierspaziergang an Orte des Wandels in Laim
DESCRIPTION:&lt;p&gt;Wie soll unbegrenztes Wirtschaftswachstum in einer Welt mit begrenzten Ressourcen aussehen? Was hat unser Lebensstil mit globaler Ungerechtigkeit zu tun? Die Antworten auf diese und weitere spannende Fragen erfahren Sie während des alternativen Stadtrundgangs „Orte des Wandels“. Spazieren Sie mit zu Projekten in München, die bereits zu einem sozial-ökologischen Wandel beitragen. Dabei ist Raum, sich mit Gleichgesinnten auszutauschen und Laim mal anders zu entdecken.&lt;/p&gt;
DTSTART:20250508T173000
DTEND:20250508T193000
LOCATION:laim_up, Guido-Schneble-Straße 24
ORGANIZER:Orte des Wandels
END:VEVENT
END:VCALENDAR