BEGIN:VCALENDAR
VERSION:2.0
PRODID:-//Stadtgeschichte München//DE
CALSCALE:GREGORIAN
BEGIN:VEVENT
UID:2628@stadtgeschichte-muenchen.de
SUMMARY:Das Bayerische Jahrtausend
DESCRIPTION:&lt;div&gt;Im 15. Jahrhundert erh&amp;auml;lt N&amp;uuml;rnberg die Reichskleinodien, den Kronschatz des Heiligen R&amp;ouml;mischen Reiches. Zugleich wird die Stadt ein Zentrum des Handwerks, der Wissenschaften und des Humanismus. Das neue Weltbild der Renaissance h&amp;auml;lt Einzug.&lt;/div&gt; &lt;div&gt;&amp;nbsp;&lt;/div&gt; &lt;div&gt;W&amp;auml;hrend St&amp;auml;dte wie W&amp;uuml;rzburg oder Regensburg hohes Ansehen genie&amp;szlig;en, gibt es in N&amp;uuml;rnberg bislang wenig, worauf man stolz sein k&amp;ouml;nnte. Das &amp;auml;ndert sich schlagartig ab 1423, als Kaiser Sigismund die Reichskleinodien, den Kronschatz des Heiligen R&amp;ouml;mischen Reiches Deutscher Nation, wegen der Hussitenkriege in seiner Heimatstadt aufbewahren l&amp;auml;sst.&lt;/div&gt;
DTSTART:20120405T220000
DTEND:20120405T224500
LOCATION:BR3
ORGANIZER:BR Bayerisches Fernsehen
END:VEVENT
END:VCALENDAR