BEGIN:VCALENDAR
VERSION:2.0
PRODID:-//Stadtgeschichte München//DE
CALSCALE:GREGORIAN
BEGIN:VEVENT
UID:26280@stadtgeschichte-muenchen.de
SUMMARY:Chairwalk: Die langsamste Art sich fortzubewegen – eine mobile Skulptur
DESCRIPTION:&lt;p&gt;10-12 Teilnehmende bilden eine Stuhlreihe, der Hinterste überholt die Sitzschlange, setzt sich an die Spitze und so fort. Die Stuhlschlange bewegt sich langsam und schweigend durch den öffentlichen Raum. Nach einer Stunde Austausch über das Wahrgenommene und Empfundene. Was für Gedanken kommen uns zum öffentlichen Raum?&lt;/p&gt;
DTSTART:20250509T170000
DTEND:20250509T194500
LOCATION:Vorm Fuchsbau, an der Ungererstraße 19, nördlich der Erlöserkirche
ORGANIZER:VCD
END:VEVENT
END:VCALENDAR