BEGIN:VCALENDAR
VERSION:2.0
PRODID:-//Stadtgeschichte München//DE
CALSCALE:GREGORIAN
BEGIN:VEVENT
UID:2630@stadtgeschichte-muenchen.de
SUMMARY:Das Bayerische Jahrtausend
DESCRIPTION:&lt;div&gt; &lt;div&gt; &lt;div&gt;Ingolstadt ist seit 1472 Sitz der ersten bayerischen Universit&amp;auml;t, die sp&amp;auml;ter ein Hort der Jesuiten wird. Von dort aus entwickelt sich ein Zentrum der Naturwissenschaften und der Wandel Bayerns zum konfessionell gepr&amp;auml;gten Staat.&lt;/div&gt; &lt;div&gt;&amp;nbsp;&lt;/div&gt; &lt;div&gt;Ingolstadt ist nicht nur seit 1472 Sitz der ersten bayerischen Universit&amp;auml;t, sondern auch eine Bastion des Glaubens. Von Ingolstadt aus entwickelt sich binnen weniger Jahrzehnte der Wandel Bayerns zum konfessionell gepr&amp;auml;gten Staat und zu einem der modernsten Territorien Europas.&lt;/div&gt; &lt;/div&gt; &lt;/div&gt;
DTSTART:20120409T220000
DTEND:20120409T224500
LOCATION:BR3
ORGANIZER:BR Bayerisches Fernsehen
END:VEVENT
END:VCALENDAR