BEGIN:VCALENDAR
VERSION:2.0
PRODID:-//Stadtgeschichte München//DE
CALSCALE:GREGORIAN
BEGIN:VEVENT
UID:26300@stadtgeschichte-muenchen.de
SUMMARY:Historisches Szeneviertel Haidhausen
DESCRIPTION:&lt;p&gt;Haidhausen - ein beliebter Szenetreffpunkt - bietet neben historischer Stadtgeschichte auch fast noch dörfliche Strukturen. Der Rundgang mit der Kunst- und Kulturhistorikerin Ursula Simon-Schuster startet am Wiener Platz mit seinen verführerischen Marktständen. Dann durchqueren wir den historischen Hohlweg &quot;An der Kreppe&quot;, kommen zum Johannisplatz mit seinem &quot;Dom&quot;, erfahren mehr über das &quot;Üblackerhäusl&quot; sowie andere Herbergshäuser, entdecken Lokale, Spezialgeschäfte und &quot;geheime Ecken&quot; und verweilen am Weißenburger Platz.&lt;/p&gt;
DTSTART:20250604T160000
DTEND:20250604T180000
LOCATION:Wiener Platz, am Maibaum
ORGANIZER:MVHS
END:VEVENT
END:VCALENDAR