BEGIN:VCALENDAR
VERSION:2.0
PRODID:-//Stadtgeschichte München//DE
CALSCALE:GREGORIAN
BEGIN:VEVENT
UID:2631@stadtgeschichte-muenchen.de
SUMMARY:Das Bayerische Jahrtausend
DESCRIPTION:&lt;div&gt; &lt;div&gt; &lt;div&gt; &lt;div&gt;In das vom Drei&amp;szlig;igj&amp;auml;hrigen Krieg ausgezehrte Erlangen lockt der Markgraf Hugenotten, protestantische Fl&amp;uuml;chtlinge aus Frankreich. Die Strumpfwirker bringen ein neues Handwerk mit. Doch es entstehen auch soziale Spannungen - und eine neue Stadt.&lt;/div&gt; &lt;div&gt;&amp;nbsp;&lt;/div&gt; &lt;div&gt;Erlangen, 1701. Ein fremdes Ger&amp;auml;usch dringt durch die Stra&amp;szlig;en: der Klang einer neuen Zeit, das mechanische Rattern eines Strumpfwirkerstuhls - der &amp;auml;lteste in Deutschland und noch heute im Stadtmuseum von Erlangen zu besichtigen. Die Hugenotten, die hier eine neue Heimat fanden, brachten das neuartige mechanische Handwerk aus Frankreich mit und verwandeln Erlangen in den wichtigsten Wirtschaftsstandort der Markgrafschaft Bayreuth.&lt;/div&gt; &lt;/div&gt; &lt;/div&gt; &lt;/div&gt;
DTSTART:20120410T220000
DTEND:20120410T224500
LOCATION:BR3
ORGANIZER:BR Bayerisches Fernsehen
END:VEVENT
END:VCALENDAR