BEGIN:VCALENDAR
VERSION:2.0
PRODID:-//Stadtgeschichte München//DE
CALSCALE:GREGORIAN
BEGIN:VEVENT
UID:26319@stadtgeschichte-muenchen.de
SUMMARY:Das dörfliche Schwabing und seine Industrie
DESCRIPTION:&lt;p&gt;Wir erkunden den Kern des ehemaligen Dorfes Schwabing zur Zeit seiner Eingemeindung nach München im Jahr 1890, seine ländlichen Strukturen, Anwesen und Einrichtungen. Von diesen ist heute noch viel zu erkennen, manchmal allerdings erst auf den zweiten Blick. Anschließend führt unser Weg zu ehemaligen Betrieben der Textilbranche und der Schwerindustrie im Englischen Garten.&lt;/p&gt;
DTSTART:20250725T170000
DTEND:20250725T190000
LOCATION:Münchner Freiheit, Eingang Karstadt, Straßenebene
ORGANIZER:DGB-Bildungswerk Bayern e.V. Region München
END:VEVENT
END:VCALENDAR