BEGIN:VCALENDAR
VERSION:2.0
PRODID:-//Stadtgeschichte München//DE
CALSCALE:GREGORIAN
BEGIN:VEVENT
UID:2632@stadtgeschichte-muenchen.de
SUMMARY:Das Bayerische Jahrtausend
DESCRIPTION:&lt;div&gt; &lt;div&gt; &lt;div&gt; &lt;div&gt; &lt;div&gt;In F&amp;uuml;rth f&amp;auml;hrt seit 1835 zwar die erste deutsche Eisenbahn, doch von der wichtigen Nord-S&amp;uuml;d-Strecke ist die Stadt abgeschnitten. Das &amp;auml;ndert sich 1876 - und F&amp;uuml;rth profitiert danach von der industriellen Revolution wie kaum eine andere bayerische Stadt.&lt;/div&gt; &lt;div&gt;&amp;nbsp;&lt;/div&gt; &lt;div&gt;1866 - keine gute Zeit: Bayern verliert an der Seite &amp;Ouml;sterreichs den Krieg gegen Preu&amp;szlig;en, die Wirtschaft stagniert. Zwar f&amp;auml;hrt seit 1835 von N&amp;uuml;rnberg nach F&amp;uuml;rth die erste deutsche Eisenbahn, die Bayerische Ludwigsbahn, doch von der neuen Lebensader, der staatlichen Nord-S&amp;uuml;d-Bahn, sind die F&amp;uuml;rther abgeschnitten. Ihre Waren m&amp;uuml;ssen sie m&amp;uuml;hsam in N&amp;uuml;rnberg umladen. Die Ludwigsbahn ist eine Privatbahn, und die Planer der 1840 entwickelten staatlichen Eisenbahn denken in gr&amp;ouml;&amp;szlig;eren Kategorien: Da ist das Einbinden kleinerer Wirtschaftsr&amp;auml;ume nicht vorgesehen.&lt;/div&gt; &lt;/div&gt; &lt;/div&gt; &lt;/div&gt; &lt;/div&gt;
DTSTART:20120411T220000
DTEND:20120411T224500
LOCATION:BR3
ORGANIZER:BR Bayerisches Fernsehen
END:VEVENT
END:VCALENDAR