BEGIN:VCALENDAR
VERSION:2.0
PRODID:-//Stadtgeschichte München//DE
CALSCALE:GREGORIAN
BEGIN:VEVENT
UID:26324@stadtgeschichte-muenchen.de
SUMMARY:Das Leben meiner Mutter
DESCRIPTION:&lt;p&gt;Die Exkursion beginnt beim Heimrath-Hof in Aufhausen, dem Geburtshaus von Oskar Maria Grafs Mutter Therese Heimrath. In Aufkirchen, wo der Schriftsteller zur Schule ging, besuchen wir das Familiengrab der Grafs und das Graf-Denkmal. Über die Lindenallee gelangen wir schließlich nach Berg, wo der Dichter seine Kindheit und Jugend verbrachte, bis er 1911 vor seinem gewalttätigen Bruder nach München floh. An allen Stationen hören Sie Schilderungen aus Grafs berühmtem Werk &quot;Das Leben meiner Mutter&quot;.&lt;/p&gt;
DTSTART:20250810T104500
DTEND:20250810T133000
LOCATION:Aufhausen, Oberlandstr. 23
ORGANIZER:DGB-Bildungswerk Bayern e.V. Region München
END:VEVENT
END:VCALENDAR