BEGIN:VCALENDAR
VERSION:2.0
PRODID:-//Stadtgeschichte München//DE
CALSCALE:GREGORIAN
BEGIN:VEVENT
UID:2633@stadtgeschichte-muenchen.de
SUMMARY:Das Bayerische Jahrtausend
DESCRIPTION:&lt;div&gt; &lt;div&gt; &lt;div&gt; &lt;div&gt; &lt;div&gt; &lt;div&gt;Mobilmachung f&amp;uuml;r Ersten Weltkrieg, Revolution, R&amp;auml;terepublik, Hitlerputsch, Machtergreifung, Bombenkrieg: M&amp;uuml;nchen wird im 20. Jahrhundert zum Hauptschauplatz bayerischer Geschichte. 1972 will es die &amp;quot;heiteren Spiele&amp;quot; ausrichten, die jedoch in einem Blutbad enden.&lt;/div&gt; &lt;div&gt;&amp;nbsp;&lt;/div&gt; &lt;div&gt;M&amp;uuml;nchen, 1914: Erster Weltkrieg. Die M&amp;uuml;nchner sind erf&amp;uuml;llt von patriotischem Hochgef&amp;uuml;hl. Begeistert rechnen sie mit einem schnellen Sieg. Kameras halten die Truppen fest. Das Medienzeitalter hat begonnen - mit bereits inszenierten Bildern: Ludwig III. verabschiedet sein Leibregiment an der Residenz, stellvertretend f&amp;uuml;r das bayerische Heer.&lt;/div&gt; &lt;/div&gt; &lt;/div&gt; &lt;/div&gt; &lt;/div&gt; &lt;/div&gt;
DTSTART:20120412T220000
DTEND:20120412T224500
LOCATION:BR3
ORGANIZER:BR Bayerisches Fernsehen
END:VEVENT
END:VCALENDAR