BEGIN:VCALENDAR
VERSION:2.0
PRODID:-//Stadtgeschichte München//DE
CALSCALE:GREGORIAN
BEGIN:VEVENT
UID:26346@stadtgeschichte-muenchen.de
SUMMARY:Führung durch das AtelierMuseum Magda Bittner-Simmet
DESCRIPTION:&lt;p&gt;Das Künstlerhaus am Schwabinger Bach wurde 1972 von der Münchner Malerin Magda Bittner-Simmet ganz im Stil der Zeit erbaut. Im Dachgeschoss des Hauses entstand eine großzügige Atelierwohnung, mit herrlichem Blick in den Englischen Garten. Magda Bittner-Simmet hat als freischaffende Künstlerin gearbeitet. Viele Persönlichkeiten des öffentlichen Lebens saßen ihr hier Modell. Das Atelier wurde zu einem gesellschaftlichen Treffpunkt. Heute beherbergt die ehemalige Atelierwohnung ein kleines, ungewöhnliches Museum mit dem Nachlass der Künstlerin. Der Besuch bietet einen unmittelbaren Einblick in die Münchner Kunst- und Zeitgeschichte und ist ein Erfahrungsort für das Lebensgefühl der Nachkriegszeit und Wirtschaftswunderjahre.&lt;/p&gt;
DTSTART:20251001T170000
DTEND:20251001T180000
LOCATION:Schwedenstraße 54 (am Englischen Garten)
ORGANIZER:DGB-Bildungswerk Bayern e.V. Region München
END:VEVENT
END:VCALENDAR