BEGIN:VCALENDAR
VERSION:2.0
PRODID:-//Stadtgeschichte München//DE
CALSCALE:GREGORIAN
BEGIN:VEVENT
UID:26348@stadtgeschichte-muenchen.de
SUMMARY:Besuch in der Justizvollzugsanstalt (JVA) Stadelheim
DESCRIPTION:&lt;p&gt;Die JVA Stadelheim, landläufig auch &quot;Sankt Adelheim&quot; genannt, zählt mit fast 700 JVA-Bediensteten und etwa 1.400 Haftplätzen zu den größten Justizvollzugsanstalten in Deutschland.&lt;br&gt;Nach dem kurzen Einführungsvortrag erfolgt ein Rundgang durch ausgewählte Bereiche in der Haftanstalt, wie bspw. Unterkunftsbereich, Arbeitsbetriebe und Besucherbereich, .Dabei werden Vollzugsbedingungen und -abläufe erläutert.&lt;br&gt;Eine Gedenkstätte in der JVA erinnert an die Mitglieder der &quot;Weißen Rose&quot;, die von den Nazis in Stadelheim hingerichtet wurden. Die außerhalb der Gefängnismauern 2020 errichteten Gedenktafeln sind den Menschen gewidmet, die hier zwischen 1934 und 1945 ermordet wurden.&lt;br&gt;Im Anschluss besteht die Möglichkeit für Diskussion und Fragen.&lt;/p&gt;
DTSTART:20251007T153000
DTEND:20251007T173000
LOCATION:Stadelheimer Str. 12
ORGANIZER:DGB-Bildungswerk Bayern e.V. Region München
END:VEVENT
END:VCALENDAR