BEGIN:VCALENDAR
VERSION:2.0
PRODID:-//Stadtgeschichte München//DE
CALSCALE:GREGORIAN
BEGIN:VEVENT
UID:26353@stadtgeschichte-muenchen.de
SUMMARY:Von der Reichszeugmeisterei der NSDAP zur McGraw-Kaserne
DESCRIPTION:&lt;p&gt;Mit Reichszeugmeisterei, Reichsautozug Deutschland und Hilfszug Bayern unterhielt die NSDAP zentrale Einrichtungen an der Tegernseer Landstraße. Nach dem Zweiten Weltkrieg beschlagnahmte die US-Armee das Areal, nannte es McGraw-Kaserne und nutzte Gebäude und Stellflächen bis 1992. Anschließend zogen Dienststellen der Münchner Polizei ein. Das Gelände ist seit einigen Jahren erheblichen Veränderungen ausgesetzt, einige Bauwerke wurden zugunsten einer neuen Wohnanlage abgerissen, das Gebäude der ehemaligen &quot;University of Maryland&quot; wird grundlegend umgebaut. Der Spaziergang bewegt sich entlang der facettenreichen Nutzungsgeschichte.&lt;/p&gt;
DTSTART:20251010T150000
DTEND:20251010T170000
LOCATION:Parkplatz vor dem Gebäude St.-Quirin-Platz 1
ORGANIZER:DGB-Bildungswerk Bayern e.V. Region München
END:VEVENT
END:VCALENDAR