BEGIN:VCALENDAR
VERSION:2.0
PRODID:-//Stadtgeschichte München//DE
CALSCALE:GREGORIAN
BEGIN:VEVENT
UID:26375@stadtgeschichte-muenchen.de
SUMMARY:Erdwärme-Geothermie-Grünwald in Oberhaching
DESCRIPTION:&lt;p&gt;München liegt im so genannten &quot;nordalpinen Molassebecken&quot;. Hier sind die Voraussetzungen für hydrothermale Geothermie sehr gut. Tief unter der Erdoberfläche befindet sich ein riesiger Vorrat an heißem Wasser, der relativ einfach angezapft werden kann, somit bietet die Nutzung von Erdwärme zur Wohnungsbeheizung eine ideale Voraussetzung.&lt;br&gt;Zur Einführung gibt es einen Vortrag mit Diskussion mit anschließendem Rundgang durch die Anlagen.&lt;/p&gt;
DTSTART:20251111T140000
DTEND:20251111T163000
LOCATION:Informationen über den Anfahrtsweg und Treffpunkt erhalten die Teilnehmer:innen rechtzeitig vor dem Termin
ORGANIZER:DGB-Bildungswerk Bayern e.V. Region München
END:VEVENT
END:VCALENDAR