BEGIN:VCALENDAR
VERSION:2.0
PRODID:-//Stadtgeschichte München//DE
CALSCALE:GREGORIAN
BEGIN:VEVENT
UID:26388@stadtgeschichte-muenchen.de
SUMMARY:Gans in Familie - Wasservögel im Olympiapark
DESCRIPTION:&lt;p&gt;Im Herbst versammeln sich nicht nur Familiengruppen von Grau- und Kanadagänsen im Olympiapark. Auch Lachmöwen aus nah und fern und ein seltener Kaisergans-X-Graugans-Hybride überwintern hier. Der Nachwuchs der Gänse wird von den Eltern betreut, aber auch Geschwister und &quot;alte Bekannte&quot; halten Kontakt zueinander. Sofern vorhanden Fernglas nicht vergessen.&lt;/p&gt;
DTSTART:20251129T110000
DTEND:20251129T130000
LOCATION:am Eingang zum Olympiaturm Referent	Dr. Silke Sorge Bezeichnung	Diplom-Biologin
ORGANIZER:DGB-Bildungswerk Bayern e.V. Region München
END:VEVENT
END:VCALENDAR