BEGIN:VCALENDAR
VERSION:2.0
PRODID:-//Stadtgeschichte München//DE
CALSCALE:GREGORIAN
BEGIN:VEVENT
UID:26396@stadtgeschichte-muenchen.de
SUMMARY:Das stille Erbe
DESCRIPTION:&lt;p&gt;Anhand der Vorstellung der Familie ihrer Großmutter und Mutter schildert Frau Dr. Schmidt deren traumatische Erlebnisse im 1. und 2. Weltkrieg.&lt;/p&gt;&lt;p&gt;Fokus dabei sind die Schicksale der drei Brüder der Großmutter. Louis Stadler, Ludwig Stadler und Konrad Stadler waren im Dritten Reich im Widerstand und mehrmals im KZ Dachau inhaftiert.&amp;nbsp;&lt;/p&gt;&lt;p&gt;Die familiären Traumatisierungen werden aufgezeigt. Dabei werden verschiedene therapeutische, vor allem ressourcenorientierte Ansätze kurz erläutert.&lt;/p&gt;&lt;p&gt;Anschließend besteht Gelegenheit, zu diskutieren.&lt;/p&gt;&lt;p&gt;Der Vortrag basiert auf dem Manuskript des Onkels der Autorin, Louis Stadler.&lt;br&gt;&lt;br&gt;Zu diesem Thema hat Frau Dr. Schmidt das Buch &quot;Liebe in wirren Zeiten - Eine Münchner Familienbiografie&quot; unter dem Namen Christa Baum veröffentlicht.&lt;/p&gt;&lt;p&gt;Die Teilnehmerzahl ist auf 15 Personen beschränkt.&lt;/p&gt;
DTSTART:20250909T180000
DTEND:20250909T200000
LOCATION:Evangelisches Migrationszentrum im Griechischen Haus, Bergmannstraße 46
ORGANIZER:ErinnerungsWerkstatt München e.V.
END:VEVENT
END:VCALENDAR