BEGIN:VCALENDAR
VERSION:2.0
PRODID:-//Stadtgeschichte München//DE
CALSCALE:GREGORIAN
BEGIN:VEVENT
UID:26404@stadtgeschichte-muenchen.de
SUMMARY:Los geht&#039;s im Oktober mit Barbara Massion
DESCRIPTION:&lt;p&gt;Von der Haltestelle des 185er-Buses sind wir gleich im Truderinger Wald, den wir durchqueren. Unser Ziel, das Kirchlein St. Aegidius in Keferloh erreichen wir nach insgesamt 2,1 km. Dort lassen wir den Raum auf uns wirken und bewundern die alten Fresken sowie die moderne&lt;br&gt;Ausstattung. Wer möchte, kann auch die Akustik testen. Nach einigen Erläuterungen zur Geschichte und Architektur setzen wir unsere Wanderung entlang einer Allee und durch erste Wohngebiete fort, um nach 1,7 km in Haar die Haltestelle des 193ers zu erreichen.&lt;br&gt;Gastgeherin ist Barbara Massion, in der Nähe von Speyer zur Grundschule gegangen und seit dieser Zeit Romanikfan (Speyrer Dom!). Bei dem vielen Barock in Bayern war ich sehr erfreut, in Keferloh nur eine gute Spazierstunde von meiner Wohnung entfernt ein romanisches Kirchlein zu entdecken.&lt;/p&gt;
DTSTART:20251014T163000
DTEND:20251014T000018
LOCATION:Kirchlein St. Aegidius in Keferloh?
ORGANIZER:Evangelisches Bildungswerk e.V.
END:VEVENT
END:VCALENDAR