BEGIN:VCALENDAR
VERSION:2.0
PRODID:-//Stadtgeschichte München//DE
CALSCALE:GREGORIAN
BEGIN:VEVENT
UID:26460@stadtgeschichte-muenchen.de
SUMMARY:Führung durch das Stadtarchiv
DESCRIPTION:&lt;p&gt;Stadtarchiv? Was ist das? Frau Angela Stilwell und Frau Dr. Ulrike Claudia Hofmann klären Sie auf, was sich hinter dem Archiv der Stadt München verbirgt. Dabei bekommen Sie auch exklusiv einen Blick hinter die Kulissen, in Bereiche, die normalerweise der Öffentlichkeit nicht zugänglich sind.&amp;nbsp;&lt;br&gt;Die Anmeldung ist ab 6. Oktober online möglich.&amp;nbsp;&lt;br&gt;Den Link zur Veranstaltung erhalten Sie über unseren Newsletter.&lt;/p&gt;
DTSTART:20251014T183000
DTEND:20251014T193000
LOCATION:Winzererstraße 68
ORGANIZER:Staatsarchiv München
END:VEVENT
END:VCALENDAR