BEGIN:VCALENDAR
VERSION:2.0
PRODID:-//Stadtgeschichte München//DE
CALSCALE:GREGORIAN
BEGIN:VEVENT
UID:26461@stadtgeschichte-muenchen.de
SUMMARY:Recherche Fotosammlung
DESCRIPTION:&lt;p&gt;Pia Frendeborg stellt den Bereich Stadtbild der rund 2 Mio. Bilder umfassenden Fotobestände vor und gibt Tipps bei der Bildersuche. Den Link zur Anmeldung bei „-online-“-Veranstaltungen über Webex erhalten Sie im Vormonat über den Newsletter, unsere Website und Social Media.&lt;/p&gt;
DTSTART:20251202T183000
DTEND:20251202T193000
LOCATION:
ORGANIZER:Staatsarchiv München
END:VEVENT
END:VCALENDAR