BEGIN:VCALENDAR
VERSION:2.0
PRODID:-//Stadtgeschichte München//DE
CALSCALE:GREGORIAN
BEGIN:VEVENT
UID:26465@stadtgeschichte-muenchen.de
SUMMARY:Jeder Mensch hat einen Namen
DESCRIPTION:&lt;p&gt;&lt;strong&gt;&quot;Jeder Mensch hat einen Namen&quot;.&lt;/strong&gt;&lt;br&gt;So heißt das &quot;Gedenkbuch für die Opfer der Shoah aus Giesing und Harlaching 1933 - 1945&quot;.&lt;/p&gt;&lt;p&gt;&quot;Hans Zöberlein war einer der aktivsten Nazis in ganz München&quot;, sagt der Historiker Herbert Dandl.&lt;/p&gt;&lt;p&gt;Unter Zöberlein und den NS-Verbrechern litten viele jüdische Menschen in Giesing und Harlaching. Dandl hat 282 Schicksale in einem Gedenkbuch&amp;nbsp;gesammelt.&lt;/p&gt;&lt;p&gt;Wir freuen uns sehr, dass wir Herrn Dr. Herbert Dandl, den Autor des Buches, für ein&amp;nbsp;Referat&amp;nbsp; gewinnen konnten; er wird aus seinem Buch vortragen, das an die dunkelsten Zeiten der deutschen Vergangenheit erinnert, im Blickpunkt steht&amp;nbsp;dabei Giesing und Harlaching.&lt;/p&gt;&lt;p&gt;Anschließend führt uns Herr Dr. Dandl zu einigen erinnerungswürdigen Orten im Giesinger Zentrum.&lt;/p&gt;&lt;p&gt;Wir freuen uns auf viele Interessierte und auf einen regen Informationsaustausch&lt;/p&gt;
DTSTART:20250711T180000
DTEND:20250711T200000
LOCATION:Uhrmacherhäusl, Obere Grasstraße 1
ORGANIZER:Bündnis HeimatGiesing
END:VEVENT
END:VCALENDAR