BEGIN:VCALENDAR
VERSION:2.0
PRODID:-//Stadtgeschichte München//DE
CALSCALE:GREGORIAN
BEGIN:VEVENT
UID:26467@stadtgeschichte-muenchen.de
SUMMARY:Der Ostfriedhof
DESCRIPTION:&lt;p&gt;Besuchen Sie mit uns den Ostfriedhof und seine Gräber, die Zeitgeschichte spiegeln und hören Sie von unterschiedlichen Bräuchen und Regeln bei der Bestattung. Der Ostfriedhof war Zeuge blutiger politischer Auseinandersetzungen des 20. Jahrhunderts. Heute ist er eine grüne Oase im Wohngebiet. Das neue „Haus am Ostfriedhof“ und sein inklusives Café sind zu Treffpunkten im Viertel geworden.&lt;/p&gt;
DTSTART:20250710T140000
DTEND:20250710T160000
LOCATION:Haupteingang Ostfriedhof, Tram Haltestelle St. Martinsplatz
ORGANIZER:Evangelisches Bildungswerk e.V.
END:VEVENT
END:VCALENDAR