BEGIN:VCALENDAR
VERSION:2.0
PRODID:-//Stadtgeschichte München//DE
CALSCALE:GREGORIAN
BEGIN:VEVENT
UID:2647@stadtgeschichte-muenchen.de
SUMMARY:München â€“ Stadt der Engel
DESCRIPTION:&lt;p&gt;M&amp;uuml;nchen steckt voller Engel! Nicht nur in den Kirchen in Gestalt von pausb&amp;auml;ckigen Barockengelchen, sondern auch in den Darstellungen der ehrw&amp;uuml;rdigen Erzengel Raphael, Gabriel und allen voran Michael. oder den wehrhaften Heldenputti an der Mariens&amp;auml;ule, die uns vor den vier Grund&amp;uuml;beln der Menschheit bewahren sollen: Krieg, Hunger, Seuchen &amp;ndash; und Ketzerei. Die gefl&amp;uuml;gelten Wesen bev&amp;ouml;lkern M&amp;uuml;nchens und setzen ganz unterschiedliche Akzente, markieren immer wieder andere Kraftpl&amp;auml;tze in der Stadt, manche davon von unglaublicher Intensit&amp;auml;t. M&amp;uuml;nchens Engel, vom Schutzengel in der B&amp;uuml;rgersaalkirche bis zum goldenen Friedensengel, der vom Isarufer aus &amp;uuml;ber die Stadt wacht, spannen ein spirituelles Netz &amp;uuml;ber die Stadt. Wer sich auf die Spuren der Engel macht, erf&amp;auml;hrt nicht nur die Kraft der Liebe, die von ihnen ausgeht, sondern auch die Kraft der Ordnung und der Erkenntnis, mit denen sie uns in Ber&amp;uuml;hrung bringen. Dieser Vortrag erz&amp;auml;hlt von den unterschiedlichen Aspekten der Engel M&amp;uuml;nchens und was wir an den einzelnen Engelorten erleben k&amp;ouml;nnen.&lt;/p&gt;
DTSTART:20120426T200000
DTEND:20120426T220000
LOCATION:Mystische Orte Fraunhoferstr. 13, München, 80469, Deutschland 
ORGANIZER:Mystisches München
END:VEVENT
END:VCALENDAR