BEGIN:VCALENDAR
VERSION:2.0
PRODID:-//Stadtgeschichte München//DE
CALSCALE:GREGORIAN
BEGIN:VEVENT
UID:26473@stadtgeschichte-muenchen.de
SUMMARY:Los geht&#039;s im November mit Heike Lüttgens
DESCRIPTION:&lt;p&gt;Jeden dritten Dienstag im Monat von März bis November (nicht August) laden wir Sie ein: Einfach mal raus und los geht&#039;s! Neuen Schwung gewinnen, Inspiration für den eigenen Weg gewinnen. Zwischen Treffpunkt und Ziel liegen 90 – 100 Minuten frische Luft, entspannte Bewegung und Begegnung – jedes Mal geführt von einem Gastgeher, der Ihnen seine Lieblingsstrecke in München zeigt. Am Ziel wartet eine kleine Erfrischung auf Sie.&lt;br&gt;Ein Novemberspaziergang im Nymphenburger Schlossparkt. Die Blütenpracht des Frühlings und des Sommers ist vorbei, der Park kommt zur Ruhe. Im Gehen schweifen die Gedanken: was haben die teilweise 300-jährige Gehölzbestände wohl &quot;erlebt&quot;? Was ruht- nicht nur in der Natur? Impulse aus dem Gehen und Sehen und Geschichten aus dem Bayrischen Königshaus stoßen eigene Gedanken und Erinnerungen an.&lt;br&gt;&lt;br&gt;Gastgeherin ist Heike Lüttgens. Sie ist Pfarrerin und arbeitet für die Projektstelle Trauerarbeit des Evangelisch-Lutherischen Dekanatsbezirk und ist mit einer halben Stelle als Seelsorgerin im haus am ostfriedhof (hao) tätig.&lt;/p&gt;
DTSTART:20251118T153000
DTEND:20251118T000017
LOCATION:Schloss Nymphenburg, Eingang zum Park
ORGANIZER:Evangelisches Bildungswerk e.V.
END:VEVENT
END:VCALENDAR