BEGIN:VCALENDAR
VERSION:2.0
PRODID:-//Stadtgeschichte München//DE
CALSCALE:GREGORIAN
BEGIN:VEVENT
UID:26485@stadtgeschichte-muenchen.de
SUMMARY:Verfolgungsgeschichte von Lesben und Schwulen
DESCRIPTION:Die Verschärfung des Paragraphen 175 im Jahre 1935, eine Höchststrafe von bis zu zehn Jahren \"Zuchthaus\", die Verhaftung Tausender, die der Homosexualität verdächtigt wurden, der \"Rosa Winkel\" als Kennzeichnung in Konzentrationslagern: Die Verfolgungsgeschichte der Lesben und Schwulen im Nationalsozialismus steht bei dieser Führung durch das NS-Dokumentationszentrum im Mittelpunkt - ein Kapitel der NS-Zeit, das erst spät in der breiten Öffentlichkeit Beachtung fand. In Kooperation mit der Münchner Regenbogen-Stiftung und dem Forum Homosexualität München e.V.Die Verschärfung des Paragraphen 175 im Jahre 1935, eine Höchststrafe von bis zu zehn Jahren \"Zuchthaus\", die Verhaftung Tausender, die der Homosexualität verdächtigt wurden, der \"Rosa Winkel\" als Kennzeichnung in Konzentrationslagern: Die Verfolgungsgeschichte der Lesben und Schwulen im Nationalsozialismus steht bei dieser Führung durch das NS-Dokumentationszentrum im Mittelpunkt - ein Kapitel der NS-Zeit, das erst spät in der breiten Öffentlichkeit Beachtung fand. In Kooperation mit der Münchner Regenbogen-Stiftung und dem Forum Homosexualität München e.V.Die Verschärfung des Paragraphen 175 im Jahre 1935, eine Höchststrafe von bis zu zehn Jahren \"Zuchthaus\", die Verhaftung Tausender, die der Homosexualität verdächtigt wurden, der \"Rosa Winkel\" als Kennzeichnung in Konzentrationslagern: Die Verfolgungsgeschichte der Lesben und Schwulen im Nationalsozialismus steht bei dieser Führung durch das NS-Dokumentationszentrum im Mittelpunkt - ein Kapitel der NS-Zeit, das erst spät in der breiten Öffentlichkeit Beachtung fand. In Kooperation mit der Münchner Regenbogen-Stiftung und dem Forum Homosexualität München e.V.Die Verschärfung des Paragraphen 175 im Jahre 1935, eine Höchststrafe von bis zu zehn Jahren \"Zuchthaus\", die Verhaftung Tausender, die der Homosexualität verdächtigt wurden, der \"Rosa Winkel\" als Kennzeichnung in Konzentrationslagern: Die Verfolgungsgeschichte der Lesben und Schwulen im Nationalsozialismus steht bei dieser Führung durch das NS-Dokumentationszentrum im Mittelpunkt - ein Kapitel der NS-Zeit, das erst spät in der breiten Öffentlichkeit Beachtung fand. In Kooperation mit der Münchner Regenbogen-Stiftung und dem Forum Homosexualität München e.V.
DTSTART:20191017T170000
DTEND:20191017T190000
LOCATION:NS-Dokumentationszentrum München, Max-Mannheimer-Platz 1
ORGANIZER:MVHS München Mitte   
END:VEVENT
END:VCALENDAR