BEGIN:VCALENDAR
VERSION:2.0
PRODID:-//Stadtgeschichte München//DE
CALSCALE:GREGORIAN
BEGIN:VEVENT
UID:2649@stadtgeschichte-muenchen.de
SUMMARY:Götter, Helden, Wunderwesen
DESCRIPTION:&lt;p&gt;Unter Dachgiebeln, aus H&amp;auml;usernischen, &amp;uuml;ber pl&amp;auml;tschernden Brunnen, aus verborgenen Nischen, zwischen B&amp;auml;umen und Str&amp;auml;uchern in prunkvollen H&amp;ouml;fen &amp;ndash; auf Schritt und Tritt beobachten sie uns, die wir allzu oft achtlos an ihnen vorbeilaufen, viel zu gesch&amp;auml;ftig, um sie wahrzunehmen &amp;ndash; die unz&amp;auml;hligen Gestalten aus Sagenwelt, die ganz M&amp;uuml;nchen bev&amp;ouml;lkern. Da gibt es die nordischen Nornen, die akkadischen Faune, die griechischen Heroen, die r&amp;ouml;mischen G&amp;ouml;tter, die Zauberwesen aus der Anderswelt &amp;ndash; sie alle bezeugen: M&amp;uuml;nchen ist eine Stadt der Mythen und M&amp;auml;rchen. Auf diesem ungew&amp;ouml;hnlichen Spaziergang durch das fabelhafte M&amp;uuml;nchen wollen wir diesen Wesen aus der Welt des Phantastischen unsere ganze Aufmerksamkeit schenken &amp;ndash; und ihren Geschichten lauschen. Lassen Sie sich ber&amp;uuml;hren von den tragischen und komischen Erz&amp;auml;hlungen, die aus einer l&amp;auml;ngst versunkenen Zeit an unser Ohr dringen &amp;ndash; und uns Heutige auf eine neue Weise inspirieren. Wer sich der Welt der Mythen &amp;ouml;ffnet wird die eigene Welt aus neuen betrachten k&amp;ouml;nnen &amp;ndash; und staunen: Unser Leben ist voller Fantasie, und erst die Fantasie macht unser Leben wirklich!&lt;/p&gt;
DTSTART:20120520T153000
DTEND:20120520T173000
LOCATION:Frauenkirche (vor dem Haupteingang)
ORGANIZER:Mystisches München
END:VEVENT
END:VCALENDAR