BEGIN:VCALENDAR
VERSION:2.0
PRODID:-//Stadtgeschichte München//DE
CALSCALE:GREGORIAN
BEGIN:VEVENT
UID:26495@stadtgeschichte-muenchen.de
SUMMARY:Die U-Bahnstation Sendlinger Tor
DESCRIPTION:Mit der Erneuerung der U-Bahnstation Sendlinger Tor - einem der wichtigsten U-Bahnhöfe im Netz der Münchner Verkehrsgesellschaft (MVG) - erreicht die U-Bahn-Modernisierung eine neue Dimension. Erstmals wird ein derart komplexer Knotenpunkt mit zwei Bahnsteigebenen und Zwischengeschoss unter laufendem Betrieb komplett saniert, modernisiert, umgestaltet, barrierefrei ausgebaut, brandschutztechnisch ertüchtigt sowie erweitert. Die Sanierung des Bahnhofs, die bis 2022 abgeschlossen sein soll, ist der Beginn eines gewaltigen Sanierungsprogramms für das gesamte U-Bahnsystem in den kommenden Jahrzehnten. Achtung: Es sind steile Treppen zu gehen. Vor Ort werden vor der Besichtigung Sicherheitsschuhe und Helme verteilt.Mit der Erneuerung der U-Bahnstation Sendlinger Tor - einem der wichtigsten U-Bahnhöfe im Netz der Münchner Verkehrsgesellschaft (MVG) - erreicht die U-Bahn-Modernisierung eine neue Dimension. Erstmals wird ein derart komplexer Knotenpunkt mit zwei Bahnsteigebenen und Zwischengeschoss unter laufendem Betrieb komplett saniert, modernisiert, umgestaltet, barrierefrei ausgebaut, brandschutztechnisch ertüchtigt sowie erweitert. Die Sanierung des Bahnhofs, die bis 2022 abgeschlossen sein soll, ist der Beginn eines gewaltigen Sanierungsprogramms für das gesamte U-Bahnsystem in den kommenden Jahrzehnten. Achtung: Es sind steile Treppen zu gehen. Vor Ort werden vor der Besichtigung Sicherheitsschuhe und Helme verteilt.Mit der Erneuerung der U-Bahnstation Sendlinger Tor - einem der wichtigsten U-Bahnhöfe im Netz der Münchner Verkehrsgesellschaft (MVG) - erreicht die U-Bahn-Modernisierung eine neue Dimension. Erstmals wird ein derart komplexer Knotenpunkt mit zwei Bahnsteigebenen und Zwischengeschoss unter laufendem Betrieb komplett saniert, modernisiert, umgestaltet, barrierefrei ausgebaut, brandschutztechnisch ertüchtigt sowie erweitert. Die Sanierung des Bahnhofs, die bis 2022 abgeschlossen sein soll, ist der Beginn eines gewaltigen Sanierungsprogramms für das gesamte U-Bahnsystem in den kommenden Jahrzehnten. Achtung: Es sind steile Treppen zu gehen. Vor Ort werden vor der Besichtigung Sicherheitsschuhe und Helme verteilt.
DTSTART:20191029T163000
DTEND:20191029T183000
LOCATION:wird mitgeteilt
ORGANIZER:MVHS München Mitte   
END:VEVENT
END:VCALENDAR