BEGIN:VCALENDAR
VERSION:2.0
PRODID:-//Stadtgeschichte München//DE
CALSCALE:GREGORIAN
BEGIN:VEVENT
UID:26505@stadtgeschichte-muenchen.de
SUMMARY:Führung zu den verborgenen Orten der Stadtbibliothek
DESCRIPTION:Wo parken Bücherbusse? Wie sieht die Rückgabe \"von innen\" aus? Die Münchner Stadtbibliothek Am Gasteig bietet vom Magazin bis zur Dachterrasse inklusive Alpen-Panorama Einblick in ihre verborgenen Orte.
DTSTART:20191121T170000
DTEND:20191121T183000
LOCATION:Stadtbibliothek Am Gasteig, Rosenheimer Str. 5 (Ebene 1.1)
ORGANIZER:MVHS München Mitte   
END:VEVENT
END:VCALENDAR