BEGIN:VCALENDAR
VERSION:2.0
PRODID:-//Stadtgeschichte München//DE
CALSCALE:GREGORIAN
BEGIN:VEVENT
UID:26508@stadtgeschichte-muenchen.de
SUMMARY:Fatschenkindl und Frauentragen
DESCRIPTION:Groß, klein, zum Aufhängen oder Aufstellen, mit Schokolade, Pralinen oder Spielzeug befüllt, so liegen die Adventskalender alle Jahre wieder in den Auslagen. Vor über 100 Jahren trat der Adventskalender seinen Siegeszug von München aus an. Der Spaziergang erinnert an seinen Erfinder, geht aber auch vielen anderen vorweihnachtlichen Fragen nach: Wie verlief das Schicksal des berühmtesten Münchner Fatschenkindls? An welcher Stelle konnte man den ersten Münchner Christkindlmarkt besuchen? Was zeichnet eigentlich Münchner Marzipan aus und wie lautet das älteste Weihnachtslied der Welt?
DTSTART:20191206T140000
DTEND:20191206T160000
LOCATION:Marienplatz, unterm Christbaum
ORGANIZER:MVHS München Mitte   
END:VEVENT
END:VCALENDAR