BEGIN:VCALENDAR
VERSION:2.0
PRODID:-//Stadtgeschichte München//DE
CALSCALE:GREGORIAN
BEGIN:VEVENT
UID:26542@stadtgeschichte-muenchen.de
SUMMARY:Ballade vom grünen Hügel Wandel-Oper als Zeitreise über Haidhausen und Au
DESCRIPTION:&lt;p&gt;Ballade vom grünen Hügel Wandel-Oper als Zeitreise über Haidhausen und Au&lt;br&gt;1.August 2025 um 20:15 an verschiedenen Orten des Foyers 1. Stock Fat Cat&lt;br&gt;&lt;br&gt;Wahre und erfundene Szenen aus fünf Jahrhunderten rund um den Gasteig: Der Jägerbursche Kaspar führt Max fast in den Abgrund. Johann Paulus Hirn verkauft Brillen. Der Architekt Gottfried Semper entwirft ein Festspielhaus. Der junge Komiker Karl Valentin fürchtet sich vor den Grünanlagen. Der Komponist Max Reger heiratet in der Nähe. Die Isarnixe am Deutschen Museum singt ein Mond-Lied. Regisseur Hilmar Binter inszeniert seine Marionetten. Schützenliesl serviert. Iganz Simon baut seine Schlagzither. Fett &amp;amp; Wiesel produzieren einen Paganini-Film. Dem singenden Fußballer entrollt der Ball. Eine Fee eilt zur alten Buchrückgabe der Bibliothek. Ein Grundstein wartet auf sein Konzerthaus. Ein Schweizer Schauspieler feiert sein 62. Bühnenjubiläum.&lt;br&gt;&lt;br&gt;Szenen aus: „Der Freischütz“, „Die schweigsame Frau“, „Don Giovanni“, „Die lustigen Weiber von Windsor“, „Don Carlos“, „Mefistofele“, „Rusalka“ &quot;Tannhäuser&quot; u.v.a.&lt;br&gt;&lt;br&gt;Mit: Genrich Kogan (Bass), Ihor Nazharov (Bass)&lt;br&gt;Sophie-Magdalena Reuter (Sopran), Oscar de la Torre a. G. (Tenor)&lt;br&gt;&lt;br&gt;Walter Hess a. G. (Münchner Kammerspiele) liest „Wilhelm Tell“&lt;br&gt;Elias Maria Burckhardt a. G. (Otto-Falckenberg-Schule) als Max&lt;br&gt;Ivo Borger a. G. (Bayerische Theaterakademie) als der junge Karl Valentin&lt;br&gt;&lt;br&gt;Horst Kalchschmid (Dr. Richard Strauss), Enrico Falcinelli (Brillenmacher J.P. Hirn), Cynthia Slezak (Bibliotheksfee), Ulrich Naumann (Münchner Löwe), Ina V. Tillmann (Münchner Kindl),&lt;br&gt;Sophia Berikashvili (Mutter), Matthias Ludwig (Gottfried Semper), Minna Herz (Euphonium)&lt;br&gt;&lt;br&gt;Inszenierung: Kristina Wuss, Henri Bonamy (Musikalische Leitung &amp;amp; alias Max Reger), Elena Arnovskaya (Klavier), Hans Winter (Jagdhorn), Wolfgang Schlick (Helikon), Männerchor ehemaliger Münchner Chorbuben, Leitung: Benjamin Schiefer, Mitglieder des Deutsch-Französischen Chors München, Kooperation: Flößer-Kulturverein e.V., Felix Rodewaldt, Verein zur Förderung urbaner Kunst e.V., Münchner Stadtgeschichte&amp;nbsp; &amp;nbsp;&lt;/p&gt;
DTSTART:20250801T201500
DTEND:20250801T214500
LOCATION:Fat Cat (Gasteig), Rosenheimer Str. 5
ORGANIZER:Theater Werkmuenchen
END:VEVENT
END:VCALENDAR