BEGIN:VCALENDAR
VERSION:2.0
PRODID:-//Stadtgeschichte München//DE
CALSCALE:GREGORIAN
BEGIN:VEVENT
UID:26549@stadtgeschichte-muenchen.de
SUMMARY:Die Herz-Jesu-Kirche in Neuhausen
DESCRIPTION:&lt;p&gt;Aufgrund eines technischen Defekts ist die Herz-Jesu-Kirche in Neuhausen 1994 abgebrannt. Den Wettbewerb zum Neubau gewann das Architekturbüro &quot;Allmann, Sattler und Wappner&quot;. Sie gestalteten ein modernes Gesamtkunstwerk. Im Jahr 2000 wurde die &quot;Glaskathedrale&quot; von Kardinal Wetter geweiht. Sie ist seitdem Anziehungspunkt für Architekturinteressierte und setzt einen eigenständigen Akzent im Kirchenbau Münchens.&lt;/p&gt;
DTSTART:20250824T150000
DTEND:20250824T163000
LOCATION:Herz-Jesu-Kirche, Haupteingang Lachnerstr. 8
ORGANIZER:MVHS
END:VEVENT
END:VCALENDAR