BEGIN:VCALENDAR
VERSION:2.0
PRODID:-//Stadtgeschichte München//DE
CALSCALE:GREGORIAN
BEGIN:VEVENT
UID:26593@stadtgeschichte-muenchen.de
SUMMARY:Das römische Bayern
DESCRIPTION:&lt;p&gt;Alea iacta est, der Würfel ist gefallen! Dieser angebliche Ausspruch Cäsars über die Eroberung Galliens galt auch einmal für unsere Gefilde: Seit etwa 15 v. Chr. gehörte das bayerische Gebiet südlich der Donau zum Imperium Romanum. Lernen Sie in diesem Vortrag die wichtigsten Orte und die Kultur der römischen Epoche kennen, von der Frühzeit bis zum Zusammenbruch des Reiches im fünften Jahrhundert n. Chr. Entdecken Sie spannende historische Zusammenhänge und unser reiches römisches Erbe.&lt;/p&gt;
DTSTART:20251201T190000
DTEND:20251201T203000
LOCATION:MVHS in Moosach Baubergerstr. 6a
ORGANIZER:MVHS
END:VEVENT
END:VCALENDAR