BEGIN:VCALENDAR
VERSION:2.0
PRODID:-//Stadtgeschichte München//DE
CALSCALE:GREGORIAN
BEGIN:VEVENT
UID:26621@stadtgeschichte-muenchen.de
SUMMARY:Das Haidhauser Franzosenviertel
DESCRIPTION:&lt;p&gt;Seine Bezeichnung verdankt das &quot;Franzosenviertel&quot; in Haidhausen seinen Straßennamen wie Metz-, Sedan- und Pariser Straße: Sie erinnern an den Krieg gegen Frankreich 1870/71. Diesen &quot;kriegerischen&quot; Hintergrund merkt man dem heute beliebten Wohnviertel nicht mehr an. Die einheitliche Bebauung mit großen Mietshäusern, Hinterhöfen und Rückgebäuden steht unter Denkmalschutz und verleiht zusammen mit den pittoresken Straßenzügen diesem Teil Münchens sein ganz besonderes Flair. Der Rundgang endet am Weihnachtsmarkt auf dem Weißenburger Platz.&lt;/p&gt;
DTSTART:20251214T110000
DTEND:20251214T123000
LOCATION:Orleansplatz, an der Mitte des Brunnens Orleansplatz
ORGANIZER:MVHS
END:VEVENT
END:VCALENDAR