BEGIN:VCALENDAR
VERSION:2.0
PRODID:-//Stadtgeschichte München//DE
CALSCALE:GREGORIAN
BEGIN:VEVENT
UID:26622@stadtgeschichte-muenchen.de
SUMMARY:Grün und bunt
DESCRIPTION:&lt;p&gt;Kein Garten ohne Überraschungseffekt: Mauer, Hecke, Zaun gehören zu ihm wie der Kontrast von Innen und Außen, Kunst und Natur. In und um unterschiedlichste Gebäude, vom Krankenhaus über Konzertsäle bis zum Konsumtempel taucht in Szene gesetztes Grün auf und lädt zu Erfrischung, Vernetzung, Pausen, Ritualen, Sonnenbaden und Schattentanken ein. Welche Philosophie hinter welchem Garten steckt, welche Verbindungen es gibt zwischen Garten, Architektur sowie historischem Grün über Stadtviertel hinweg zeigt diese kleine herbstliche Gartenexkursion.&lt;/p&gt;&lt;p&gt;Voraussichtlicher Endpunkt ist in der Theatinerstraße.&lt;/p&gt;
DTSTART:20251115T143000
DTEND:20251115T163000
LOCATION:vor Max-Weber-Platz 10
ORGANIZER:MVHS
END:VEVENT
END:VCALENDAR