BEGIN:VCALENDAR
VERSION:2.0
PRODID:-//Stadtgeschichte München//DE
CALSCALE:GREGORIAN
BEGIN:VEVENT
UID:26625@stadtgeschichte-muenchen.de
SUMMARY:Ludwig der Bayer – Kaiserkrone und Kirchenba
DESCRIPTION:&lt;p&gt;Im Mittelalter galt er als &quot;gewaltiger Adler&quot;: Ludwig der Bayer. Wer war dieser Münchner aus dem Hause Wittelsbach, dem es im 14. Jh. als zweitgeborenem Sohn gelang, deutscher König zu werden? Der päpstlichen Machtansprüchen eisern die Stirn bot und im Jahr 1328 die Kaiserkrone nicht vom Papst entgegennahm, sondern von Vertretern des römischen Volkes? Eine Spurensuche in der Altstadt und eine Annäherung an einen Herrscher, der sich auf ein Doppelkönigtum mit seinem früheren Gegner einließ und München eine große kulturelle und geistige Blüte bescherte.&lt;/p&gt;
DTSTART:20251017T160000
DTEND:20251017T180000
LOCATION:Mariensäule Marienplatz
ORGANIZER:MVHS
END:VEVENT
END:VCALENDAR