BEGIN:VCALENDAR
VERSION:2.0
PRODID:-//Stadtgeschichte München//DE
CALSCALE:GREGORIAN
BEGIN:VEVENT
UID:26638@stadtgeschichte-muenchen.de
SUMMARY:Das Stadtarchiv München – Gedächtnis der Stadt
DESCRIPTION:&lt;p&gt;Irgendwas mit Geschichte – Archiv, Museum, Bibliothek?&amp;nbsp;Viele Menschen haben davon schon etwas gehört, doch der Unterschied zwischen diesen Einrichtungen ist nicht allen bewusst. Das Stadtarchiv München ist das zentrale Archiv für alle Dienststellen der Landeshauptstadt. Die Urkunden, Akten und Amtsbücher der Stadt reichen bis ins 13. Jh. zurück. Auch sammelt das Archiv nichtamtliche Dokumente, etwa private Nachlässe, Plakate und Fotos. Eine Führung durch die Magazine bietet anhand ausgewählter Archivalien Einblicke in die stadtgeschichtliche Überlieferung.&lt;/p&gt;
DTSTART:20260128T170000
DTEND:20260128T190000
LOCATION:Stadtarchiv München Winzererstr. 68
ORGANIZER:MVHS
END:VEVENT
END:VCALENDAR