BEGIN:VCALENDAR
VERSION:2.0
PRODID:-//Stadtgeschichte München//DE
CALSCALE:GREGORIAN
BEGIN:VEVENT
UID:26650@stadtgeschichte-muenchen.de
SUMMARY:Entlang der ältesten Stadtmauer Münchens
DESCRIPTION:&lt;p&gt;Was haben Mönche, ein Welfe und ein Straßendiebstahl gemeinsam? Sie sind der Stoff, aus dem München wurde! Begeben Sie sich auf eine Zeitreise und entdecken Sie das &quot;forum apud munichen&quot; des 12. Jahrhunderts auf einem virtuellen Stadtspaziergang zwischen Talburgtor und Schönem Turm. Lernen Sie Onuphrius sowie das Geheimnis des Löwenturms kennen und stellen Sie sich der spannenden Frage: Was war eigentlich vor der &quot;Gründung&quot; Münchens im Jahre 1158?&lt;/p&gt;
DTSTART:20260115T183000
DTEND:20260115T200000
LOCATION:
ORGANIZER:MVHS
END:VEVENT
END:VCALENDAR